BEGIN:VCALENDAR
VERSION:2.0
PRODID:-//American Scandinavian Society - ECPv6.15.17.1//NONSGML v1.0//EN
CALSCALE:GREGORIAN
METHOD:PUBLISH
X-ORIGINAL-URL:https://americanscandinavian.org
X-WR-CALDESC:Events for American Scandinavian Society
REFRESH-INTERVAL;VALUE=DURATION:PT1H
X-Robots-Tag:noindex
X-PUBLISHED-TTL:PT1H
BEGIN:VTIMEZONE
TZID:America/New_York
BEGIN:DAYLIGHT
TZOFFSETFROM:-0500
TZOFFSETTO:-0400
TZNAME:EDT
DTSTART:20230312T070000
END:DAYLIGHT
BEGIN:STANDARD
TZOFFSETFROM:-0400
TZOFFSETTO:-0500
TZNAME:EST
DTSTART:20231105T060000
END:STANDARD
BEGIN:DAYLIGHT
TZOFFSETFROM:-0500
TZOFFSETTO:-0400
TZNAME:EDT
DTSTART:20240310T070000
END:DAYLIGHT
BEGIN:STANDARD
TZOFFSETFROM:-0400
TZOFFSETTO:-0500
TZNAME:EST
DTSTART:20241103T060000
END:STANDARD
BEGIN:DAYLIGHT
TZOFFSETFROM:-0500
TZOFFSETTO:-0400
TZNAME:EDT
DTSTART:20250309T070000
END:DAYLIGHT
BEGIN:STANDARD
TZOFFSETFROM:-0400
TZOFFSETTO:-0500
TZNAME:EST
DTSTART:20251102T060000
END:STANDARD
END:VTIMEZONE
BEGIN:VEVENT
DTSTART;TZID=America/New_York:20240307T170000
DTEND;TZID=America/New_York:20240307T190000
DTSTAMP:20260424T190106
CREATED:20240223T230237Z
LAST-MODIFIED:20240303T133757Z
UID:29724-1709830800-1709838000@americanscandinavian.org
SUMMARY:Scandinavian Happy Hour: March 2024
DESCRIPTION:See you for our next Happy Hour on Thursday\, March 7th. Skål! Cheers!\nPlease bring your Swedes\, Danes\, Norwegians\, Finns\, Icelanders\, and their friends (non-Scandinavians ok too!) for some casual mingle and drinks after work Thursday\, March 7th from 5-7 PM. \nThank you for your RSVP’s. The event is now full. Stay tuned for our next Happy Hour!  \nDetails: \nBjörk Café & Bistro at Scandinavia House 58 Park Avenue\, New York\, NY \n️Thursday\, March 7th\, 2024  |   5-7 PM \n️Place food orders before 7 PM\, open until 8 PM \n10% Discount for American Scandinavian Society Members
URL:https://americanscandinavian.org/event/happy-hour-3-7-24/
LOCATION:Björk Café & Bistro at Scandinavia House\, 58 Park Avenue\, New York\, NY\, 10016\, United States
END:VEVENT
END:VCALENDAR