BEGIN:VCALENDAR
VERSION:2.0
PRODID:-//American Scandinavian Society - ECPv6.15.17.1//NONSGML v1.0//EN
CALSCALE:GREGORIAN
METHOD:PUBLISH
X-ORIGINAL-URL:https://americanscandinavian.org
X-WR-CALDESC:Events for American Scandinavian Society
REFRESH-INTERVAL;VALUE=DURATION:PT1H
X-Robots-Tag:noindex
X-PUBLISHED-TTL:PT1H
BEGIN:VTIMEZONE
TZID:America/New_York
BEGIN:DAYLIGHT
TZOFFSETFROM:-0500
TZOFFSETTO:-0400
TZNAME:EDT
DTSTART:20230312T070000
END:DAYLIGHT
BEGIN:STANDARD
TZOFFSETFROM:-0400
TZOFFSETTO:-0500
TZNAME:EST
DTSTART:20231105T060000
END:STANDARD
BEGIN:DAYLIGHT
TZOFFSETFROM:-0500
TZOFFSETTO:-0400
TZNAME:EDT
DTSTART:20240310T070000
END:DAYLIGHT
BEGIN:STANDARD
TZOFFSETFROM:-0400
TZOFFSETTO:-0500
TZNAME:EST
DTSTART:20241103T060000
END:STANDARD
BEGIN:DAYLIGHT
TZOFFSETFROM:-0500
TZOFFSETTO:-0400
TZNAME:EDT
DTSTART:20250309T070000
END:DAYLIGHT
BEGIN:STANDARD
TZOFFSETFROM:-0400
TZOFFSETTO:-0500
TZNAME:EST
DTSTART:20251102T060000
END:STANDARD
END:VTIMEZONE
BEGIN:VEVENT
DTSTART;TZID=America/New_York:20240430T180000
DTEND;TZID=America/New_York:20240430T200000
DTSTAMP:20260424T172323
CREATED:20240328T194924Z
LAST-MODIFIED:20240429T222051Z
UID:29854-1714500000-1714507200@americanscandinavian.org
SUMMARY:Private Art Opening with Anki King at Carl Hansen & Søn
DESCRIPTION:PRIVATE ART OPENING WITH ANKI KING AT CARL HANSEN & SØN\nJoin us for a captivating evening and immerse yourself in the intersection of art and craftsmanship as we showcase the works of Norwegian artist Anki King at Carl Hansen & Søn Flagship store Soho\, New York.\nIn addition\, there will be a silent auction for a One Hour Design Consultation by Carl Hansen & Son!\n  \nBalance\, 2013\, oil on canvas\, 48 x 48 in.\nDetails: \nWhen: Tuesday\, April 30th 2024 from 6:00 – 8:00 pm \nWhere: Carl Hansen & Søn Flagship Store  | 150 Wooster St. New York\, NY\, 10012 \nSilent Auction: One Hour Design Consultation by Carl Hansen & Son at the home of the highest bidder. The consultation is valued at $600. The bid is a tax deductible donation to the American Scandinavian Society. Can’t make the event? We invite you to call in a bid for the silent auction to 212.751.0714. \nTickets: $20 for Members  | $25 for Non-Members * Pre-purchased tickets only\, no tickets sold at the door \nFood & Drink: Sparkling water and white wine will be served with Danish cheese\, crackers and cookies \nAccessibility: There are no stairs to enter the venue\, however there are stairs to access the restroom \nANKI KING\n“I paint and sculpt life sized figures that act as symbols for feelings that can’t accurately be described in words. They are characterized by the object symbols with which they share space. Each figure\, or fragment of a figure\, stands still in readiness for a charged meeting with the viewer. The viewing activates a series of responses\, where identity is projected onto the faceless figure\, similar to a reflection that offers the gazer another view of him/herself. This frees the narrative from being contained within the subject matter of the artwork and allows it to exist in the viewing space.” \nMore about Anki King and her work: https://www.ankiking.com \n  \nLeaves\, 2023\, oil on canvas\, 54 x 36 in.\nLate\, 2012\, oil on canvas\, 84 x 88 in.\nCARL HANSEN & SØN\nBY APPOINTMENT TO THE ROYAL DANISH COURT
URL:https://americanscandinavian.org/event/art-opening-anki-king/
LOCATION:Carl Hansen & Søn\, 150 Wooster St.\, New York\, NY\, 10012\, United States
END:VEVENT
END:VCALENDAR