BEGIN:VCALENDAR
VERSION:2.0
PRODID:-//American Scandinavian Society - ECPv6.15.17.1//NONSGML v1.0//EN
CALSCALE:GREGORIAN
METHOD:PUBLISH
X-ORIGINAL-URL:https://americanscandinavian.org
X-WR-CALDESC:Events for American Scandinavian Society
REFRESH-INTERVAL;VALUE=DURATION:PT1H
X-Robots-Tag:noindex
X-PUBLISHED-TTL:PT1H
BEGIN:VTIMEZONE
TZID:America/New_York
BEGIN:DAYLIGHT
TZOFFSETFROM:-0500
TZOFFSETTO:-0400
TZNAME:EDT
DTSTART:20240310T070000
END:DAYLIGHT
BEGIN:STANDARD
TZOFFSETFROM:-0400
TZOFFSETTO:-0500
TZNAME:EST
DTSTART:20241103T060000
END:STANDARD
BEGIN:DAYLIGHT
TZOFFSETFROM:-0500
TZOFFSETTO:-0400
TZNAME:EDT
DTSTART:20250309T070000
END:DAYLIGHT
BEGIN:STANDARD
TZOFFSETFROM:-0400
TZOFFSETTO:-0500
TZNAME:EST
DTSTART:20251102T060000
END:STANDARD
BEGIN:DAYLIGHT
TZOFFSETFROM:-0500
TZOFFSETTO:-0400
TZNAME:EDT
DTSTART:20260308T070000
END:DAYLIGHT
BEGIN:STANDARD
TZOFFSETFROM:-0400
TZOFFSETTO:-0500
TZNAME:EST
DTSTART:20261101T060000
END:STANDARD
END:VTIMEZONE
BEGIN:VEVENT
DTSTART;TZID=America/New_York:20250403T170000
DTEND;TZID=America/New_York:20250403T193000
DTSTAMP:20260423T225350
CREATED:20250323T232525Z
LAST-MODIFIED:20250331T171908Z
UID:31682-1743699600-1743708600@americanscandinavian.org
SUMMARY:Scandinavian Happy Hour: April 2025
DESCRIPTION:See you for our next Happy Hour on Thursday\, April 3rd. Skål! Cheers!\nPlease bring your Swedes\, Danes\, Norwegians\, Finns\, Icelanders\, and their friends (non-Scandinavians ok too!) for some casual mingle and drinks after work Thursday\, April 3rd from 5-7:30 PM.  \nDue to space limits\, you must RSVP below in order to attend. \nDetails: \nKabin  | 300 Spring St\, New York\, NY 10013   * Note: New location!  \n️Thursday\, April 3rd\, 2025  |   5:00-7:30 PM
URL:https://americanscandinavian.org/event/happy-hour-april2025/
LOCATION:Kabin\, 300 Spring St\, New York\, NY\, 10013\, United States
ATTACH;FMTTYPE=image/png:https://americanscandinavian.org/wp-content/uploads/Happy-Hour-Apr-2025-FB-Cover.png
END:VEVENT
BEGIN:VEVENT
DTSTART;TZID=America/New_York:20250420T123000
DTEND;TZID=America/New_York:20250420T153000
DTSTAMP:20260423T225350
CREATED:20250331T173240Z
LAST-MODIFIED:20250331T173335Z
UID:31805-1745152200-1745163000@americanscandinavian.org
SUMMARY:A Swedish Easter Sunday Feast
DESCRIPTION:Join us for a heartwarming Swedish Easter Lunch\, Family Style\, in partnership with the renowned Björk restaurant.\n  \n \nWhat’s Included:\nA delectable Easter feast featuring: \n* Lamb loin \n* Potato gratin and other Scandinavian delish sides \n* Bottomless festive beverages (alcoholic or non-alcoholic) \nDetails:\n* When: Sunday\, April 20th \n* Time: 12:30 PM \n* Where: Björk Café & Bistro\, 58 Park Avenue\, NYC 10016 \n* Price: $95 per person (includes NYC tax\, gratuity and $15 donation to the American Scandinavian Society)
URL:https://americanscandinavian.org/event/swedish-easter-feast/
LOCATION:Björk Café & Bistro at Scandinavia House\, 58 Park Avenue\, New York\, NY\, 10016\, United States
END:VEVENT
END:VCALENDAR